BEGIN:VCALENDAR
METHOD:PUBLISH
VERSION:2.0
PRODID:-//Eventilla iCal Syndication//NONSGML Liana//EN
BEGIN:VEVENT
UID:pJoK3@eventilla.com
DTSTAMP:20251028T070000Z
DTSTART:20251028T070000Z
DTEND:20251028T101500Z
SUMMARY:Ideasta kansainväliseksi tuotteeksi
DESCRIPTION:Kiihdytä kansainväliseen kasvuun!\nOletko valmis viemään ideasi maailmalle? Tervetuloa kuulemaan\, miten idea muuttuu kansainväliseksi tuotteeksi – askel askeleelta ja käytännönläheisesti.\nSaat myös tietoa\, miten kansainvälistymisohjelmamme ja Hämeen ammattikorkeakoulun palvelut ovat yrityksesi kansainvälistymisen tukena. \nHuom! Paikka vaihtunut. Tapahtuma järjestetään LasiKulmassa\, Kasarmikatu 23.\nOhjelma klo 9.00 (8.30 kahvi) – 12.15 \n\n     Kiihdytys kansainväliseen kasvuun – ohjelma yrityksille\, jotka tähtäävät kansainvälisille markkinoille\n\nAnastasia Kanervisto Linnan Kehityksestä esittelee\, mitä kansainvälistymisen kiihdytysohjelma tarjoaa yrityksellesi.\n\nHAMK yritysten kansainvälistymisen tukena\n\nMikä merkitys kielellä\, kulttuurilla ja tuotteen lokalisoinnilla on yrityksen kansainvälistymisessä? Miten yritykset voivat kehittää valmiuksiaan ja saada lisää tietoa kohdemarkkinoista verkostoitumalla kotimaassa? Anu-Maria Laitinen kertoo\, miten Hämeen ammattikorkeakoulun kansainvälisen kaupan ohjelma on yritysten tukena.\n\n\nSpeed Meeting HAMK\n\n\nNopeat 5 minuutin keskustelut: esittele lyhyesti yrityksesi tarpeet ja kuule\, miten HAMKin kansainvälisen kaupan ohjelma voi olla juuri sinun yrityksesi tukena. Jatkoaskeleista voit sopia heti tilaisuuden aikana.\n\nIdeasta kansainväliseksi tuotteeksi\n\nMirja Tapio / BlocksLab® vie meidät tunnin puheenvuorossaan käytännönläheiselle matkalle hetkeen\, jossa idea kohtaa asiakkaan ja alkaa kehittyä tuotteeksi kansainvälisille markkinoille. Luvassa on oivalluksia\, esimerkkejä ja selkeä malli\, jonka avulla suomalaiset mikro- ja pk-yritykset voivat rakentaa oman polkunsa kasvuun ja kansainvälistymiseen.\n\nSpeed sparrausta ideallesi!\n\nMirja Tapion puheenvuoron jälkeen yritykselläsi on mahdollisuus hyödyntää 15 minuutin nopea täsmäapu idean muotoiluun kansainvälisille markkinoille. \n \n \nMirja Tapio / BlocksLab® on modernin kaupallistamisen ja liiketoiminnan kehittämisen asiantuntija\, joka auttaa yrityksiä kasvamaan ja kansainvälistymään. Hänellä on vahva kokemus monikanavaisen liiketoiminnan kehittämisestä ja skaalaamisesta yhdessä kymmenien B2B-\, B2C-\, B2B2C- ja D2C-brändien kanssa. Hän yhdistää strategisen ja operatiivisen kyvykkyyden vaikuttavaksi tekemiseksi ja hyödyntää laajaa verkostoaan yritysten kasvun ja kansainvälistymisen tueksi.\n \nTilaisuus on osa Häme Smart Growth -hanketta\, jonka aikana on kehitetty yrityksille Kiihdytys kansainväliseen kasvuun -ohjelma. #HÄMESMARTGROWTH \n
LOCATION:LasiKulma, ylin kerros\, Kasarmikatu 23\, 13100\, Hämeenlinna
URL:http://tapahtumat.linnan.fi/ideasta_kansainvaliseksi_tuotteeksi
END:VEVENT
END:VCALENDAR
