BEGIN:VCALENDAR
METHOD:PUBLISH
VERSION:2.0
PRODID:-//Eventilla iCal Syndication//NONSGML Liana//EN
BEGIN:VEVENT
UID:oJb8z@eventilla.com
DTSTAMP:20251217T070000Z
DTSTART:20251217T070000Z
DTEND:20251217T090000Z
SUMMARY:Jouluspesiaali: Rahoitushakemusten täyttö haltuun
DESCRIPTION:Haluatko varmistaa\, että yrityksesi rahoitushakemukset erottuvat edukseen? Tule mukaan Tommi Pajalan vetämään työpajaan\, jossa saat käytännön vinkit ja selkeät ohjeet hakemuksissa pyydettyjen taloustietojen täyttämiseen.\n\nMitä yrityksen taloustietoja eri rahoittajille pitää toimittaa?\nMiten erilaisten hakemusten kasvuennusteet\, tulosennusteet tai kassavirtaennusteet pitää täyttää? Mitä esim. ELY-keskus\, Business Finland\, Finnvera tai pankki niistä katsovat?\n\nTyöpaja on suunnattu yrityksille\, jotka ovat osakeyhtiöitä. \nTyöpajasta saat arvokasta tietoa ja hyödyllisiä eväitä tulevaisuuden rahoitushakemuksiin\, vaikka yrityksesi ei olisi juuri nyt hakemassa rahoitusta. \nToteutamme työpajan etänä ja lähetämme sinulle Teams-linkin ennen tilaisuutta.\n \n\nTommi Pajala /Fimentum Oy\nFimentum Oy on riippumaton kasvun rahoituksen asiantuntijayritys. Tommi Pajala on toiminut yli 20 vuotta startup- ja kasvuyrityskentässä yrittäjänä\, sijoittajana ja advisorina. Hän on tarjonnut rahoitusneuvontaa yli tuhannelle yritykselle\, -suunnittelua yli 500 yritykselle ja -hankintaa yli 300 yritykselle. Hänellä on kokemusta rahoituksen keräämisestä yli 100 miljoonan arvosta. \n \nTilaisuus on osa Häme Smart Growth -hanketta\, jonka aikana on kehitetty yrityksille Kiihdytys kansainväliseen kasvuun -ohjelma. #HÄMESMARTGROWTH \n
LOCATION:Verkossa (Teams)
URL:http://tapahtumat.linnan.fi/jouluspesiaali_rahoitushakemukset_haltuun
END:VEVENT
END:VCALENDAR
