BEGIN:VCALENDAR
METHOD:PUBLISH
VERSION:2.0
PRODID:-//Eventilla iCal Syndication//NONSGML Liana//EN
BEGIN:VEVENT
UID:goBKM@eventilla.com
DTSTAMP:20260211T070000Z
DTSTART:20260211T070000Z
DTEND:20260211T090000Z
SUMMARY:Kansainvälistymisen go-to-market: liiketoimintamalli ja hinnoittelu kohdalleen
DESCRIPTION:Tervetuloa kuulemaan\, miten rakentaa tehokas go-to-market -suunnitelma uudelle kohdemarkkinalle!\nKansainvälisen liiketoiminnan asiantuntijat Tomi Tapper ja Mikko Fransila tarjoavat konkreettisia neuvoja muun muassa markkinatutkimuksen hyödyntämiseen\, sopivan liiketoimintamallin valintaan uudella markkinalla sekä tuotteiden ja palveluiden hinnoitteluun kansainvälisessä ympäristössä.\nKäytännönläheinen tilaisuus on suunnattu pk-yrityksille\, jotka myyvät erityisosaamistaan – kuten teknologiaa tai asiantuntijapalveluja – ja tähtäävät kansainvälisille markkinoille.\nMiksi osallistua?\n\nSaat selkeämmän käsityksen siitä\, miten valmistautua ja lähteä uudelle markkinalle.\nVältät yleisimmät kansainvälistymisen sudenkuopat ja löydät keinoja skaalata liiketoimintaa yli rajojen.\nOpit tunnistamaan yrityksesi kansainvälistymisen kannalta keskeiset kehityskohteet\, kuten hinnoittelustrategian ja liiketoimintamallin valinnan.\nSaat valmiudet laatia tehokkaan go-to-market -suunnitelman.\nLähdet tilaisuudesta mukanasi uutta varmuutta kansainväliseen kasvuun!\n\nTilaisuudessa kuulet runsaasti aitoja esimerkkejä sekä onnistumisista että kompastuskivistä. Kansainvälistymistä käsitellään pienten organisaatioiden arkeen sopivalla tavalla\, huomioiden rajalliset resurssit ja tarve konkreettisille tuloksille.\nAamukahvi on tarjolla klo 8.45.\n \n \nTomi Tapper (eMBA) on Voitto Groupin perustaja\, jolla on yli 20 vuoden kokemus strategisesta liiketoiminnan kehittämisestä\, myynnin kasvattamisesta ja kansainvälisestä liiketoiminnasta. Hän on urallaan auttanut useita yrityksiä muuttamaan kasvustrategiansa käytännön toimenpiteiksi ja saavuttamaan merkittäviä tuloksia uusilla markkinoilla.\n\nMikko Fransila (BSc (Hons)) on Voitto Groupin perustaja ja kansainvälistymisen asiantuntija\, joka on erikoistunut strategiatyöhön\, liiketoimintamallien uudistamiseen ja organisaatioiden kehittämiseen. Mikolla on vahva tausta sekä suurista kansainvälisistä konsulttitaloista (mm. PwC\, Deloitte) että startup-ympäristöistä. Hän on auttanut lukuisia pk-yrityksiä kirkastamaan kasvustrategiaansa\, kehittämään myyntiään ja rakentamaan skaalautuvia toimintamalleja.\nhttps://voittogroup.com/\n \nTilaisuus toteutetaan yhteistyössä Hämeen Liiton rahoittaman GrowthClub - Monikulttuurisen yrittäjyyshubin pilottiprojekti -hankkeen kanssa. \n\n 
LOCATION:PARKKI Business Park\, Raatihuoneenkatu 21-23\, 13100\,
 Hämeenlinna
URL:http://tapahtumat.linnan.fi/kansainvalistymisen_go_to_market
END:VEVENT
END:VCALENDAR
