BEGIN:VCALENDAR
METHOD:PUBLISH
VERSION:2.0
PRODID:-//Eventilla iCal Syndication//NONSGML Liana//EN
BEGIN:VEVENT
UID:LPJZ6@eventilla.com
DTSTAMP:20251202T120000Z
DTSTART:20251202T120000Z
DTEND:20251202T140000Z
SUMMARY:Kv-klubi – kansainvälistymistä yhdessä
DESCRIPTION:Tervetuloa kv-klubiin!\nKv-klubi kokoaa yhteen yrityksiä\, jotka tähtäävät kansainvälisille markkinoille. Olitpa vasta alussa tai jo vauhdissa\, klubissa saat vertaistukea\, konkreettisia vinkkejä ja mahdollisuuden jakaa kokemuksia muiden kanssa.\nKlubi perustettiin joulukuussa 2023\, ja mukana on jo monta aktiivista yritystä. Haluamme kasvattaa joukkoa ja kutsumme yrityksesi mukaan keskustelemaan kansainvälistymisen teemoista ja ratkomaan haasteita yhdessä!\n2.12. PARKKI Business Parkissa kuulemme Linnan Business Turnajaiset 2025 KIIHDYTYSsarjan voittaneen Kasperi Products Oy:n kansainvälistymistarinan. Michael Tervanen kertoo meille\, miten ideasta syntyi kansainvälinen tuote.\nOhjelmassa on myös tuttuun tapaan kuulumisten vaihto sekä pikkujoulukahvit – lämpimästi tervetuloa mukaan!\n \nKv-klubi on osa Häme Smart Growth -hanketta. #HÄMESMARTGROWTH\nLisätietoja\nSaija Mäki-Nevala\, Linnan Kehitys Oy\n050 340 3884\nsaija.maki-nevala@linnan.fi\n \n        
LOCATION:PARKKI Business Park\, Raatihuoneenkatu 21-23\, 13100\,
 Hämeenlinna\, Suomi
URL:http://tapahtumat.linnan.fi/kv_klubi_joulukuu_2025
END:VEVENT
END:VCALENDAR
