BEGIN:VCALENDAR
METHOD:PUBLISH
VERSION:2.0
PRODID:-//Eventilla iCal Syndication//NONSGML Liana//EN
BEGIN:VEVENT
UID:GGN2a@eventilla.com
DTSTAMP:20231213T070000Z
DTSTART:20231213T070000Z
DTEND:20231213T100000Z
SUMMARY:Kohti kansainvälistä menestystä - Kohdemarkkinoiden valinta ja tuotteen muotoilu
DESCRIPTION:When in Rome - eli maassa maan tavalla\nTervetuloa kuulemaan\, miten muotoutua paikallista yleisöä kiinnostavaksi toimijaksi!\nPääset etänä mukaan PARKKI Business Park  YouTube -kanavalla.\n \nKotimarkkinoilla menestynyt tuote tai palvelu harvoin sujahtaa sukkana uusille markkinoille.\nKun markkinaselvitykset on tehty ja tietoa kohdemarkkinasta sekä sen kulttuurista kerätty\, joutuu yritys miettimään strategiaansa\, miten uudessa markkinassa pärjätä.\nKoska paikallisia olosuhteita\, kilpailua tai kulttuuria yritys ei voi muuttaa\, tulee miettiä\, miten omaa liikeideaa\, brändiä\, markkinointia\, tuotetta\, palvelua ja toimintaa tulisi muotoilla\, jotta menestystä voidaan odottaa.\nMutta mitä kaikkea voidaan muotoilla? Mistä olemme valmiita luopumaan ja minkälaisia seurauksia valinnoilla mahdollisesti on?\nKaikille avoin ja maksuton valmennus soveltuu eri toimialojen yrityksille. Voit osallistua paikan päällä PARKKI Business Parkissa tai etänä. \nPäivän valmennuksen jälkeen klo 11.00-12.00 vietämme Kohti kansainvälistä menestystä -ohjelman pikkujouluja ja KV-klubin starttia! Tutustu ja jaa kokemuksia muiden kansainvälistä kasvua tavoittelevien yrittäjien kesken. Huom! Pikkujoulut ja KV-klubin startti vain livenä.\n \n \nTilaisuus on osa Häme Smart Growth -hanketta\, jonka aikana kehitetään yrityksille Kohti kansainvälistä menestystä -ohjelma. #HÄMESMARTGROWTH\nLisätietoa Kohti kansainvälistä menestystä -ohjelmasta ja ohjelman kokonaisaikataulun löydät Kansainvälistymisapu yrittäjille -sivulta. \n
LOCATION:PARKKI Business Park\, Raatihuoneenkatu 21-23\, 13100\,
 Hämeenlinna
URL:http://tapahtumat.linnan.fi/kohdemarkkinoiden_valinta
END:VEVENT
END:VCALENDAR
