BEGIN:VCALENDAR
METHOD:PUBLISH
VERSION:2.0
PRODID:-//Eventilla iCal Syndication//NONSGML Liana//EN
BEGIN:VEVENT
UID:ElGD3@eventilla.com
DTSTAMP:20260518T080000Z
DTSTART:20260518T080000Z
DTEND:20260518T093000Z
SUMMARY:Agrimpact - Hämeenlinnasta kestävän maatalouden edelläkävijä?
DESCRIPTION:Kutsu kaikille julkisille toimijoille\, maatalousyrittäjille\, metsätilallisille ja ruokaketjun toimijoille:\nTervetuloa rakentamaan yhdessä uudenlaista kannustinmallia kestävän ja älykkään maatalouden tueksi!\nAgrimpact on yhteistyö- ja rahoitusmalli\, jonka tavoitteena on tukea maatalouden kestävää uudistumista ja samalla luoda ympäristö- ja yhteiskuntahyötyjä. Agrimpact tarjoaa konkreettisen välineen siirtyä haittojen kompensoinnista kohti ennakoivaa\, positiivisia vaikutuksia korostavaa yhteistyötä.\nTulosperusteinen rahoitus\, jossa keskitytään saavutettuihin vaikutuksiin yksittäisten toimenpiteiden sijaan\, on nouseva suunta myös maataloudessa. Tule mukaan keskustelemaan\, miten Hämeenlinna voisi hyödyntää tätä kehitystä ja toimia kestävän maatalouden edelläkävijänä!\nKahvitarjoilu klo 10.45\nOhjelma klo 11.00–12.30\nTilaisuuden avaus ja alustuspuheenvuorot:\nAgrimpact\, Linnan Kehitys Oy\nTulosperusteiset rahoitusmallit\, Timo Halonen\, maa- ja metsätalousministeriö\nKanta-Hämeen maatalouden näkökulma\, Päivi Rönni\, MTK Häme\nPaneelikeskustelu:\n\nmiten Hämeenlinna voi profiloitua kestävän ja älykkään maatalouden edelläkävijänä\,\nmiten kaupunki voi hyödyntää uusia tulosperusteisia malleja ja markkinoita\,\nmillaisia ratkaisuja eri puolueet näkevät tärkeiksi maaseudun uudistumisen\, luonnon monimuotoisuuden ja paikallisen elinvoiman vahvistamiseksi.\n\nPaneelissa on mukana Hämeenlinnan valtuustopuolueiden edustajia:\nJari Eerola (Kokoomus)\nLaura Lindeman (Vihreä liitto)\nHenri Lindholm (Keskusta)\nRanjith Kumar Prabhakaran (SDP)\nYhdessä keskustellen rakennamme pohjaa konkreettisille toimenpiteille ja päätöksille sekä hahmotamme yhteistä ymmärrystä mahdollisuuksista sekä Hämeenlinnalle merkityksellisistä suunnista. Lämpimästi tervetuloa mukaan rakentamaan Hämeenlinnasta uuden ajan maaseutu- ja ympäristöinnovaatioiden mallialuetta!\nIlmoittauduthan tarjoilujen mitoittamiseksi.\n \nTilaisuus on järjestyksessään kolmas neljän työpajan/keskustelutilaisuuden sarjasta vuosina 2025–2026. Työpajoissa syvennytään kestävään ruoantuotantoon\, yhteistyöhön ja kannustinmalliin.\nAgrimpact-hanke on saanut EU:n maaseuturahoitusta Hämeen ELY-keskukselta\, jonka tehtäviä hoitavat nykyisin Sisä-Suomen ja Kaakkois-Suomen elinvoimakeskukset.  #agrimpact\n          \nKuva: © Maaseutuverkosto\, kuvaaja: Mediafarmi
LOCATION:Raatihuone, juhlasali\, Raatihuoneenkatu 15\, 13100\,
 Hämeenlinna
URL:http://tapahtumat.linnan.fi/agrimpact-hameenlinnasta_kestavan_maatalouden_edellakavija
END:VEVENT
END:VCALENDAR
