BEGIN:VCALENDAR
METHOD:PUBLISH
VERSION:2.0
PRODID:-//Eventilla iCal Syndication//NONSGML Liana//EN
BEGIN:VEVENT
UID:5db78@eventilla.com
DTSTAMP:20251022T060000Z
DTSTART:20251022T060000Z
DTEND:20251022T130000Z
SUMMARY:Rakenna elämyspalveluiden verkkokauppa päivässä
DESCRIPTION:Tervetuloa mukaan työpajaan\, jonka tavoitteena on rakentaa verkkokauppa matkailualan yrityksen elämystuotteille Get Your Guide -alustalle.\nGet Your Guide on verkossa ja mobiilisovelluksessa toimiva myyntialusta\, jossa matkailijat voivat löytää ja varata elämyksiä matkakohteissa – kuten opastettuja kierroksia\, pääsylippuja ja paikallisia aktiviteetteja. Alustalla vierailee miljoonia matkailijoita ympäri maailmaa – saat tuotteesi näkyviin uusille asiakkaille ilman kallista omaa markkinointia. Ei kiinteitä kuluja – maksat vain\, kun saat varauksen!\nEnnen työpajaa saat ennakkotehtävän ja kouluttaja käy kanssasi keskustelut valmistautumisesta varmistaakseen\, että lähtökohdat verkkokaupan rakentamiselle ovat kunnossa.\nTyöpajan aikana saat syvällisen ymmärryksen alustasta ja sen hyödyntämisestä myynnin tehostamiseksi sekä konkreettista apua tuotteistuksessa ja verkkokaupan rakentamisessa. Tavoitteena on\, että jokaisella osallistujalla on työpajan päättyessä tuotteet lisättynä jakelukanavaan ja voit myydä tuotteitasi sen kautta verkossa.\nKouluttajana toimii Kirsi Mikkola\, DigiPro Liiketoiminta. Hän on matkailun digitaalisen liiketoiminnan asiantuntija\, joka tuntee myös Hämeenlinnan alueen hyvin. Kirsillä on erittäin vahva käytännön kokemus ja näkemys kotimaan ja kansainvälisen matkailun ja kaupan tilasta sekä digitaalisuuden käytön haasteista ja mahdollisuuksista.\nVoit osallistua työpajaan joko etänä Teamsilla tai tulla paikan päälle Lasikulmaan tekemään tuotteita paikan päälle. Huom! Oma kannettava tietokone tarvitaan mukaan.\n 
LOCATION:LasiKulma, ylin kerros / Teams\, Kasarmikatu 23\, 13100\,
 Hämeenlinna
URL:http://tapahtumat.linnan.fi/event/5db78
END:VEVENT
END:VCALENDAR
