BEGIN:VCALENDAR
METHOD:PUBLISH
VERSION:2.0
PRODID:-//Eventilla iCal Syndication//NONSGML Liana//EN
BEGIN:VEVENT
UID:5dEBL@eventilla.com
DTSTAMP:20251118T070000Z
DTSTART:20251118T070000Z
DTEND:20251118T080000Z
SUMMARY:Rahoitusinfo: muutokset julkisessa rahoituksessa
DESCRIPTION:Ajankohtaiset muutokset julkisessa rahoituksessa\nOnko suunnitelmissasi yrityksen toiminnan kasvattaminen tai kansainvälistyminen?\nTervetuloa kuulemaan viimeisin tieto pk-yritysten julkisen rahoituksen tilanteesta.Rahoitusasiantuntija Tommi Pajala kertoo vuoden 2025 rahoitusmuutoksista ja antaa tilannekatsauksen vuoteen 2026.\nToteutamme rahoitusinfon etänä ja lähetämme sinulle Teams-linkin ennen tilaisuutta.\nTilaisuus soveltuu eri toimialojen yrityksille.\n \n\nTommi Pajala /Fimentum Oy\nFimentum Oy on riippumaton kasvun rahoituksen asiantuntijayritys. Tommi Pajala on toiminut yli 20 vuotta startup- ja kasvuyrityskentässä yrittäjänä\, sijoittajana ja advisorina. Hän on tarjonnut rahoitusneuvontaa yli tuhannelle yritykselle\, -suunnittelua yli 500 yritykselle ja -hankintaa yli 300 yritykselle. Hänellä on kokemusta rahoituksen keräämisestä yli 100 miljoonan arvosta. \n \nTilaisuus on osa Häme Smart Growth -hanketta\, jonka aikana on kehitetty yrityksille Kiihdytys kansainväliseen kasvuun -ohjelma. #HÄMESMARTGROWTH \n
LOCATION:Verkossa (Teams)
URL:http://tapahtumat.linnan.fi/rahoitusinfo_syksy_2025
END:VEVENT
END:VCALENDAR
